BEGIN:VCALENDAR
VERSION:2.0
PRODID:-//Hatzenbühl - ECPv6.3.5//NONSGML v1.0//EN
CALSCALE:GREGORIAN
METHOD:PUBLISH
X-WR-CALNAME:Hatzenbühl
X-ORIGINAL-URL:https://www.xn--hatzenbhl-w9a.de
X-WR-CALDESC:Veranstaltungen für Hatzenbühl
REFRESH-INTERVAL;VALUE=DURATION:PT1H
X-Robots-Tag:noindex
X-PUBLISHED-TTL:PT1H
BEGIN:VTIMEZONE
TZID:Europe/Berlin
BEGIN:DAYLIGHT
TZOFFSETFROM:+0100
TZOFFSETTO:+0200
TZNAME:CEST
DTSTART:20200329T010000
END:DAYLIGHT
BEGIN:STANDARD
TZOFFSETFROM:+0200
TZOFFSETTO:+0100
TZNAME:CET
DTSTART:20201025T010000
END:STANDARD
END:VTIMEZONE
BEGIN:VEVENT
DTSTART;TZID=Europe/Berlin:20200306T190000
DTEND;TZID=Europe/Berlin:20200306T210000
DTSTAMP:20260422T004412
CREATED:20200115T115641Z
LAST-MODIFIED:20200115T115641Z
UID:1911-1583521200-1583528400@www.xn--hatzenbhl-w9a.de
SUMMARY:GV - Musikverein
DESCRIPTION:
URL:https://www.xn--hatzenbhl-w9a.de/event/gv-musikverein/
LOCATION:Musikerraum Bürgerhaus\, Kirchwiese 1\, Hatzenbühl\, 76770\, Deutschland
ORGANIZER;CN="Musikverein":MAILTO:kaufmannjutta-mvhatzenbuehl@gmx.de
END:VEVENT
BEGIN:VEVENT
DTSTART;TZID=Europe/Berlin:20200306T190000
DTEND;TZID=Europe/Berlin:20200306T210000
DTSTAMP:20260422T004412
CREATED:20200115T115731Z
LAST-MODIFIED:20200115T115731Z
UID:1914-1583521200-1583528400@www.xn--hatzenbhl-w9a.de
SUMMARY:JHV- TC83 mit Neuwahlen
DESCRIPTION:
URL:https://www.xn--hatzenbhl-w9a.de/event/jhv-tc83-mit-neuwahlen/
LOCATION:Tennisheim TC´83\, Schelmenhecke 2\, Hatzenbühl\, 76770\, Deutschland
ORGANIZER;CN="Tennisclub TC%C2%B483":MAILTO:w.wuenstel@t-online.de
END:VEVENT
END:VCALENDAR