BEGIN:VCALENDAR
VERSION:2.0
PRODID:-//Hatzenbühl - ECPv6.3.5//NONSGML v1.0//EN
CALSCALE:GREGORIAN
METHOD:PUBLISH
X-ORIGINAL-URL:https://www.xn--hatzenbhl-w9a.de
X-WR-CALDESC:Veranstaltungen für Hatzenbühl
REFRESH-INTERVAL;VALUE=DURATION:PT1H
X-Robots-Tag:noindex
X-PUBLISHED-TTL:PT1H
BEGIN:VTIMEZONE
TZID:Europe/Berlin
BEGIN:DAYLIGHT
TZOFFSETFROM:+0100
TZOFFSETTO:+0200
TZNAME:CEST
DTSTART:20200329T010000
END:DAYLIGHT
BEGIN:STANDARD
TZOFFSETFROM:+0200
TZOFFSETTO:+0100
TZNAME:CET
DTSTART:20201025T010000
END:STANDARD
END:VTIMEZONE
BEGIN:VEVENT
DTSTART;TZID=Europe/Berlin:20200313T200000
DTEND;TZID=Europe/Berlin:20200313T220000
DTSTAMP:20260421T123804
CREATED:20200115T115826Z
LAST-MODIFIED:20200115T115922Z
UID:1916-1584129600-1584136800@www.xn--hatzenbhl-w9a.de
SUMMARY:GV - Lyra Voices
DESCRIPTION:Generalversammlung Lyra Voices
URL:https://www.xn--hatzenbhl-w9a.de/event/gv-lyra-voices/
LOCATION:Sängerheim
END:VEVENT
END:VCALENDAR