BEGIN:VCALENDAR
VERSION:2.0
PRODID:-//Hatzenbühl - ECPv6.3.5//NONSGML v1.0//EN
CALSCALE:GREGORIAN
METHOD:PUBLISH
X-ORIGINAL-URL:https://www.xn--hatzenbhl-w9a.de
X-WR-CALDESC:Veranstaltungen für Hatzenbühl
REFRESH-INTERVAL;VALUE=DURATION:PT1H
X-Robots-Tag:noindex
X-PUBLISHED-TTL:PT1H
BEGIN:VTIMEZONE
TZID:Europe/Berlin
BEGIN:DAYLIGHT
TZOFFSETFROM:+0100
TZOFFSETTO:+0200
TZNAME:CEST
DTSTART:20260329T010000
END:DAYLIGHT
BEGIN:STANDARD
TZOFFSETFROM:+0200
TZOFFSETTO:+0100
TZNAME:CET
DTSTART:20261025T010000
END:STANDARD
END:VTIMEZONE
BEGIN:VEVENT
DTSTART;VALUE=DATE:20261024
DTEND;VALUE=DATE:20261026
DTSTAMP:20260422T075549
CREATED:20251114T205228Z
LAST-MODIFIED:20260118T152046Z
UID:3664-1792800000-1792886400@www.xn--hatzenbhl-w9a.de
SUMMARY:Vereinsjubiläum 50 Jahre Flugmodellclub Hatzenbühl e.V.
DESCRIPTION:
URL:https://www.xn--hatzenbhl-w9a.de/event/vereinsjubilaeum-50-jahre-flugmodellclub-hatzenbuehl-e-v/
LOCATION:Bürgerhaus\, Großer Saal
END:VEVENT
END:VCALENDAR