BEGIN:VCALENDAR
VERSION:2.0
PRODID:-//Hatzenbühl - ECPv6.3.5//NONSGML v1.0//EN
CALSCALE:GREGORIAN
METHOD:PUBLISH
X-WR-CALNAME:Hatzenbühl
X-ORIGINAL-URL:https://www.xn--hatzenbhl-w9a.de
X-WR-CALDESC:Veranstaltungen für Hatzenbühl
REFRESH-INTERVAL;VALUE=DURATION:PT1H
X-Robots-Tag:noindex
X-PUBLISHED-TTL:PT1H
BEGIN:VTIMEZONE
TZID:Europe/Berlin
BEGIN:DAYLIGHT
TZOFFSETFROM:+0100
TZOFFSETTO:+0200
TZNAME:CEST
DTSTART:20260329T010000
END:DAYLIGHT
BEGIN:STANDARD
TZOFFSETFROM:+0200
TZOFFSETTO:+0100
TZNAME:CET
DTSTART:20261025T010000
END:STANDARD
END:VTIMEZONE
BEGIN:VEVENT
DTSTART;TZID=Europe/Berlin:20261224T110000
DTEND;TZID=Europe/Berlin:20261224T140000
DTSTAMP:20260422T114623
CREATED:20260118T152252Z
LAST-MODIFIED:20260118T152252Z
UID:3751-1798110000-1798120800@www.xn--hatzenbhl-w9a.de
SUMMARY:Malteser-Weihnachtskinderbetreuung
DESCRIPTION:
URL:https://www.xn--hatzenbhl-w9a.de/event/malteser-weihnachtskinderbetreuung-2/
LOCATION:Malteser Jugendsaal im Feuerwehrhaus
ORGANIZER;CN="Malteser Hatzenb%C3%BChl":MAILTO:patrick.trauth@malteser.org
END:VEVENT
END:VCALENDAR