BEGIN:VCALENDAR
VERSION:2.0
PRODID:-//Hatzenbühl - ECPv6.3.5//NONSGML v1.0//EN
CALSCALE:GREGORIAN
METHOD:PUBLISH
X-WR-CALNAME:Hatzenbühl
X-ORIGINAL-URL:https://www.xn--hatzenbhl-w9a.de
X-WR-CALDESC:Veranstaltungen für Hatzenbühl
REFRESH-INTERVAL;VALUE=DURATION:PT1H
X-Robots-Tag:noindex
X-PUBLISHED-TTL:PT1H
BEGIN:VTIMEZONE
TZID:Europe/Berlin
BEGIN:DAYLIGHT
TZOFFSETFROM:+0100
TZOFFSETTO:+0200
TZNAME:CEST
DTSTART:20260329T010000
END:DAYLIGHT
BEGIN:STANDARD
TZOFFSETFROM:+0200
TZOFFSETTO:+0100
TZNAME:CET
DTSTART:20261025T010000
END:STANDARD
END:VTIMEZONE
BEGIN:VEVENT
DTSTART;VALUE=DATE:20261003
DTEND;VALUE=DATE:20261004
DTSTAMP:20260421T142206
CREATED:20251114T204736Z
LAST-MODIFIED:20251114T210218Z
UID:3647-1790985600-1790985600@www.xn--hatzenbhl-w9a.de
SUMMARY:Volksradfahren
DESCRIPTION:
URL:https://www.xn--hatzenbhl-w9a.de/event/volksradfahren-3/
LOCATION:Start/Ziel Vereinsheim KTZV Hatzenbühl e.V.
END:VEVENT
BEGIN:VEVENT
DTSTART;VALUE=DATE:20261018
DTEND;VALUE=DATE:20261019
DTSTAMP:20260421T142206
CREATED:20251114T205002Z
LAST-MODIFIED:20251114T205037Z
UID:3653-1792281600-1792281600@www.xn--hatzenbhl-w9a.de
SUMMARY:Wendelinusfest mit Pferdesegnung
DESCRIPTION:
URL:https://www.xn--hatzenbhl-w9a.de/event/wendelinusfest-mit-pferdesegnung/
LOCATION:Vereinsheim KTZV
END:VEVENT
BEGIN:VEVENT
DTSTART;VALUE=DATE:20261024
DTEND;VALUE=DATE:20261026
DTSTAMP:20260421T142206
CREATED:20251114T205228Z
LAST-MODIFIED:20260118T152046Z
UID:3664-1792800000-1792886400@www.xn--hatzenbhl-w9a.de
SUMMARY:Vereinsjubiläum 50 Jahre Flugmodellclub Hatzenbühl e.V.
DESCRIPTION:
URL:https://www.xn--hatzenbhl-w9a.de/event/vereinsjubilaeum-50-jahre-flugmodellclub-hatzenbuehl-e-v/
LOCATION:Bürgerhaus\, Großer Saal
END:VEVENT
BEGIN:VEVENT
DTSTART;TZID=Europe/Berlin:20261028T200000
DTEND;TZID=Europe/Berlin:20261028T200000
DTSTAMP:20260421T142206
CREATED:20251114T204824Z
LAST-MODIFIED:20251114T204824Z
UID:3648-1793217600-1793217600@www.xn--hatzenbhl-w9a.de
SUMMARY:Terminkoordinationssitzung / Planungsversammlung Wendelinusmarkt
DESCRIPTION:
URL:https://www.xn--hatzenbhl-w9a.de/event/terminkoordinationssitzung-planungsversammlung-wendelinusmarkt/
LOCATION:Mehrzweckraum
END:VEVENT
BEGIN:VEVENT
DTSTART;TZID=Europe/Berlin:20261031T113000
DTEND;TZID=Europe/Berlin:20261031T113000
DTSTAMP:20260421T142206
CREATED:20251114T204902Z
LAST-MODIFIED:20251114T204903Z
UID:3649-1793446200-1793446200@www.xn--hatzenbhl-w9a.de
SUMMARY:Härteste Meile der Pfalz
DESCRIPTION:
URL:https://www.xn--hatzenbhl-w9a.de/event/haerteste-meile-der-pfalz-3/
LOCATION:Nähe Schützenhaus
END:VEVENT
BEGIN:VEVENT
DTSTART;TZID=Europe/Berlin:20261107T170000
DTEND;TZID=Europe/Berlin:20261107T170000
DTSTAMP:20260421T142206
CREATED:20251114T205356Z
LAST-MODIFIED:20251114T205431Z
UID:3668-1794070800-1794070800@www.xn--hatzenbhl-w9a.de
SUMMARY:St. Martinsumzug & Kerweeröffnung
DESCRIPTION:
URL:https://www.xn--hatzenbhl-w9a.de/event/st-martinsumzug-2/
LOCATION:Treffpunkt: Clubhaus des Kleintierzuchtvereins / Feigenberg –> Schulhof
END:VEVENT
BEGIN:VEVENT
DTSTART;VALUE=DATE:20261107
DTEND;VALUE=DATE:20261111
DTSTAMP:20260421T142206
CREATED:20251114T205314Z
LAST-MODIFIED:20260118T152142Z
UID:3666-1794074400-1794268800@www.xn--hatzenbhl-w9a.de
SUMMARY:Hatzebehler Kerwe 2026
DESCRIPTION:
URL:https://www.xn--hatzenbhl-w9a.de/event/hatzebehler-kerwe-2026/
LOCATION:Bürgerplatz
END:VEVENT
BEGIN:VEVENT
DTSTART;TZID=Europe/Berlin:20261107T200000
DTEND;TZID=Europe/Berlin:20261107T200000
DTSTAMP:20260421T142206
CREATED:20251114T205510Z
LAST-MODIFIED:20251114T205511Z
UID:3672-1794081600-1794081600@www.xn--hatzenbhl-w9a.de
SUMMARY:Kerwetanz
DESCRIPTION:
URL:https://www.xn--hatzenbhl-w9a.de/event/kerwetanz-2/
LOCATION:Bürgerhaus\, Großer Saal
END:VEVENT
BEGIN:VEVENT
DTSTART;VALUE=DATE:20261114
DTEND;VALUE=DATE:20261116
DTSTAMP:20260421T142206
CREATED:20251114T205550Z
LAST-MODIFIED:20251114T205559Z
UID:3675-1794614400-1794700800@www.xn--hatzenbhl-w9a.de
SUMMARY:Ausstellung Heimatverein Hatzenbühl
DESCRIPTION:
URL:https://www.xn--hatzenbhl-w9a.de/event/ausstellung-heimatverein-hatzenbuehl-2/
LOCATION:Bürgerhaus\, Großer Saal
END:VEVENT
BEGIN:VEVENT
DTSTART;VALUE=DATE:20261206
DTEND;VALUE=DATE:20261207
DTSTAMP:20260421T142206
CREATED:20251114T205639Z
LAST-MODIFIED:20251119T054931Z
UID:3678-1796515200-1796515200@www.xn--hatzenbhl-w9a.de
SUMMARY:Nikolausaktion Malteser Hatzenbühl
DESCRIPTION:
URL:https://www.xn--hatzenbhl-w9a.de/event/nikolausaktion-4/
ORGANIZER;CN="Malteser Hatzenb%C3%BChl":MAILTO:patrick.trauth@malteser.org
END:VEVENT
BEGIN:VEVENT
DTSTART;VALUE=DATE:20261211
DTEND;VALUE=DATE:20261212
DTSTAMP:20260421T142206
CREATED:20251114T205721Z
LAST-MODIFIED:20260118T152206Z
UID:3681-1796947200-1796947200@www.xn--hatzenbhl-w9a.de
SUMMARY:Weihnachtsfeier Freundeskreis SMBR e.V.
DESCRIPTION:
URL:https://www.xn--hatzenbhl-w9a.de/event/weihnachtsfeier-freundeskreis-smbr-e-v/
LOCATION:Angelo
END:VEVENT
BEGIN:VEVENT
DTSTART;VALUE=DATE:20261212
DTEND;VALUE=DATE:20261214
DTSTAMP:20260421T142206
CREATED:20241217T151552Z
LAST-MODIFIED:20251114T205814Z
UID:3176-1797033600-1797120000@www.xn--hatzenbhl-w9a.de
SUMMARY:5. Hatzenbühler Wendelinusmarkt
DESCRIPTION:
URL:https://www.xn--hatzenbhl-w9a.de/event/3-wendelinusmarkt-hatzenbuehl/
LOCATION:Rathausplatz / Pfarrgarten
END:VEVENT
BEGIN:VEVENT
DTSTART;VALUE=DATE:20261218
DTEND;VALUE=DATE:20261219
DTSTAMP:20260421T142206
CREATED:20251114T205845Z
LAST-MODIFIED:20251114T205849Z
UID:3684-1797552000-1797552000@www.xn--hatzenbhl-w9a.de
SUMMARY:Kinderweihnachtsfeier TV Palatia Hatzenbühl
DESCRIPTION:
URL:https://www.xn--hatzenbhl-w9a.de/event/kinderweihnachtsfeier-tv-palatia-hatzenbuehl/
END:VEVENT
BEGIN:VEVENT
DTSTART;TZID=Europe/Berlin:20261218T200000
DTEND;TZID=Europe/Berlin:20261218T200000
DTSTAMP:20260421T142206
CREATED:20260302T122009Z
LAST-MODIFIED:20260305T210311Z
UID:3827-1797624000-1797624000@www.xn--hatzenbhl-w9a.de
SUMMARY:Church in Colors mit Oli Dums
DESCRIPTION:
URL:https://www.xn--hatzenbhl-w9a.de/event/church-in-color-mit-oli-dums-2/
LOCATION:Kirche Hatzenbühl
END:VEVENT
BEGIN:VEVENT
DTSTART;TZID=Europe/Berlin:20261218T200000
DTEND;TZID=Europe/Berlin:20261218T200000
DTSTAMP:20260421T142206
CREATED:20260302T122009Z
LAST-MODIFIED:20260302T122009Z
UID:3826-1797624000-1797624000@www.xn--hatzenbhl-w9a.de
SUMMARY:Church in Color mit Oli Dums
DESCRIPTION:
URL:https://www.xn--hatzenbhl-w9a.de/event/church-in-color-mit-oli-dums/
LOCATION:Kirche Hatzenbühl
END:VEVENT
BEGIN:VEVENT
DTSTART;TZID=Europe/Berlin:20261224T110000
DTEND;TZID=Europe/Berlin:20261224T140000
DTSTAMP:20260421T142206
CREATED:20260118T152252Z
LAST-MODIFIED:20260118T152252Z
UID:3751-1798110000-1798120800@www.xn--hatzenbhl-w9a.de
SUMMARY:Malteser-Weihnachtskinderbetreuung
DESCRIPTION:
URL:https://www.xn--hatzenbhl-w9a.de/event/malteser-weihnachtskinderbetreuung-2/
LOCATION:Malteser Jugendsaal im Feuerwehrhaus
ORGANIZER;CN="Malteser Hatzenb%C3%BChl":MAILTO:patrick.trauth@malteser.org
END:VEVENT
BEGIN:VEVENT
DTSTART;VALUE=DATE:20261228
DTEND;VALUE=DATE:20261229
DTSTAMP:20260421T142206
CREATED:20241217T151726Z
LAST-MODIFIED:20251119T054858Z
UID:3179-1798416000-1798416000@www.xn--hatzenbhl-w9a.de
SUMMARY:Nachtwanderung Musikverein Hatzenbühl e.V.
DESCRIPTION:
URL:https://www.xn--hatzenbhl-w9a.de/event/nachtwanderung-3/
END:VEVENT
BEGIN:VEVENT
DTSTART;VALUE=DATE:20261230
DTEND;VALUE=DATE:20261231
DTSTAMP:20260421T142206
CREATED:20251114T210020Z
LAST-MODIFIED:20251114T210020Z
UID:3687-1798588800-1798588800@www.xn--hatzenbhl-w9a.de
SUMMARY:Jahresabschluss Wanderung TV Palatia Hatzenbühl
DESCRIPTION:
URL:https://www.xn--hatzenbhl-w9a.de/event/jahresabschluss-wanderung-tv-palatia-hatzenbuehl/
END:VEVENT
END:VCALENDAR