BEGIN:VCALENDAR
VERSION:2.0
PRODID:-//Hatzenbühl - ECPv6.3.5//NONSGML v1.0//EN
CALSCALE:GREGORIAN
METHOD:PUBLISH
X-ORIGINAL-URL:https://www.xn--hatzenbhl-w9a.de
X-WR-CALDESC:Veranstaltungen für Hatzenbühl
REFRESH-INTERVAL;VALUE=DURATION:PT1H
X-Robots-Tag:noindex
X-PUBLISHED-TTL:PT1H
BEGIN:VTIMEZONE
TZID:Europe/Berlin
BEGIN:DAYLIGHT
TZOFFSETFROM:+0100
TZOFFSETTO:+0200
TZNAME:CEST
DTSTART:20190331T010000
END:DAYLIGHT
BEGIN:STANDARD
TZOFFSETFROM:+0200
TZOFFSETTO:+0100
TZNAME:CET
DTSTART:20191027T010000
END:STANDARD
END:VTIMEZONE
BEGIN:VEVENT
DTSTART;TZID=Europe/Berlin:20190405T190000
DTEND;TZID=Europe/Berlin:20190405T220000
DTSTAMP:20260426T012337
CREATED:20190318T113946Z
LAST-MODIFIED:20190318T114043Z
UID:1486-1554490800-1554501600@www.xn--hatzenbhl-w9a.de
SUMMARY:Theateraufführung
DESCRIPTION:
URL:https://www.xn--hatzenbhl-w9a.de/event/theaterauffuehrung/
LOCATION:Theatersaal Zum Pflug
END:VEVENT
BEGIN:VEVENT
DTSTART;TZID=Europe/Berlin:20190406T100000
DTEND;TZID=Europe/Berlin:20190406T120000
DTSTAMP:20260426T012337
CREATED:20190318T122331Z
LAST-MODIFIED:20190318T122331Z
UID:1491-1554544800-1554552000@www.xn--hatzenbhl-w9a.de
SUMMARY:Frühstücksbuffet
DESCRIPTION:
URL:https://www.xn--hatzenbhl-w9a.de/event/fruehstuecksbuffet/
LOCATION:Tennisheim TC´83\, Schelmenhecke 2\, Hatzenbühl\, 76770\, Deutschland
ORGANIZER;CN="Tennisclub TC%C2%B483":MAILTO:w.wuenstel@t-online.de
END:VEVENT
BEGIN:VEVENT
DTSTART;TZID=Europe/Berlin:20190406T190000
DTEND;TZID=Europe/Berlin:20190406T220000
DTSTAMP:20260426T012337
CREATED:20190318T120921Z
LAST-MODIFIED:20190318T122209Z
UID:1489-1554577200-1554588000@www.xn--hatzenbhl-w9a.de
SUMMARY:Theateraufführung
DESCRIPTION:
URL:https://www.xn--hatzenbhl-w9a.de/event/theaterauffuehrung-2/
LOCATION:Theatersaal Zum Pflug
END:VEVENT
BEGIN:VEVENT
DTSTART;TZID=Europe/Berlin:20190407T180000
DTEND;TZID=Europe/Berlin:20190407T220000
DTSTAMP:20260426T012337
CREATED:20190318T125750Z
LAST-MODIFIED:20190318T125750Z
UID:1493-1554660000-1554674400@www.xn--hatzenbhl-w9a.de
SUMMARY:Theateraufführung
DESCRIPTION:
URL:https://www.xn--hatzenbhl-w9a.de/event/theaterauffuehrung-3/
LOCATION:Theatersaal Zum Pflug
END:VEVENT
BEGIN:VEVENT
DTSTART;TZID=Europe/Berlin:20190411T190000
DTEND;TZID=Europe/Berlin:20190411T210000
DTSTAMP:20260426T012337
CREATED:20190318T130100Z
LAST-MODIFIED:20190318T130100Z
UID:1497-1555009200-1555016400@www.xn--hatzenbhl-w9a.de
SUMMARY:Ostereier-Schießen
DESCRIPTION:
URL:https://www.xn--hatzenbhl-w9a.de/event/ostereier-schiessen/
LOCATION:Schützenhaus SSV\, Hinterwaldallee 1\, Hatzenbühl\, 76770\, Deutschland
END:VEVENT
BEGIN:VEVENT
DTSTART;TZID=Europe/Berlin:20190411T190000
DTEND;TZID=Europe/Berlin:20190411T220000
DTSTAMP:20260426T012337
CREATED:20190318T125854Z
LAST-MODIFIED:20190318T125854Z
UID:1495-1555009200-1555020000@www.xn--hatzenbhl-w9a.de
SUMMARY:Theateraufführung
DESCRIPTION:
URL:https://www.xn--hatzenbhl-w9a.de/event/theaterauffuehrung-4/
LOCATION:Theatersaal Zum Pflug
END:VEVENT
BEGIN:VEVENT
DTSTART;VALUE=DATE:20190412
DTEND;VALUE=DATE:20190415
DTSTAMP:20260426T012337
CREATED:20190318T130241Z
LAST-MODIFIED:20190318T130629Z
UID:1501-1555027200-1555286399@www.xn--hatzenbhl-w9a.de
SUMMARY:Probewochenende
DESCRIPTION:Probewochenende des Musikverein Hatzenbühl e.V.
URL:https://www.xn--hatzenbhl-w9a.de/event/probewochenende/
LOCATION:Bürgerhaus\, Kirchwiese 5\, Hatzenbühl\, 76770\, Deutschland
ORGANIZER;CN="Musikverein":MAILTO:kaufmannjutta-mvhatzenbuehl@gmx.de
END:VEVENT
BEGIN:VEVENT
DTSTART;TZID=Europe/Berlin:20190412T190000
DTEND;TZID=Europe/Berlin:20190412T220000
DTSTAMP:20260426T012337
CREATED:20190318T130145Z
LAST-MODIFIED:20190318T130145Z
UID:1499-1555095600-1555106400@www.xn--hatzenbhl-w9a.de
SUMMARY:Theateraufführung
DESCRIPTION:
URL:https://www.xn--hatzenbhl-w9a.de/event/theaterauffuehrung-5/
LOCATION:Theatersaal Zum Pflug
END:VEVENT
BEGIN:VEVENT
DTSTART;VALUE=DATE:20190413
DTEND;VALUE=DATE:20190414
DTSTAMP:20260426T012337
CREATED:20190318T130420Z
LAST-MODIFIED:20190318T130420Z
UID:1504-1555113600-1555199999@www.xn--hatzenbhl-w9a.de
SUMMARY:Ostereier-Schießen (Bogen)
DESCRIPTION:
URL:https://www.xn--hatzenbhl-w9a.de/event/ostereier-schiessen-bogen/
LOCATION:Schützenhaus SSV\, Hinterwaldallee 1\, Hatzenbühl\, 76770\, Deutschland
END:VEVENT
BEGIN:VEVENT
DTSTART;TZID=Europe/Berlin:20190413T150000
DTEND;TZID=Europe/Berlin:20190413T220000
DTSTAMP:20260426T012337
CREATED:20190318T130455Z
LAST-MODIFIED:20190318T130455Z
UID:1506-1555167600-1555192800@www.xn--hatzenbhl-w9a.de
SUMMARY:Privatfeier
DESCRIPTION:
URL:https://www.xn--hatzenbhl-w9a.de/event/privatfeier-7/
LOCATION:Bürgerhaus\, Kirchwiese 5\, Hatzenbühl\, 76770\, Deutschland
ORGANIZER;CN="Sabine Zaucker - B%C3%BCrgerhauswirtin":MAILTO:info@Dorfgemeinschaftshaus-Hatzenbühl.de
END:VEVENT
BEGIN:VEVENT
DTSTART;TZID=Europe/Berlin:20190413T190000
DTEND;TZID=Europe/Berlin:20190413T220000
DTSTAMP:20260426T012337
CREATED:20190318T130551Z
LAST-MODIFIED:20190318T130551Z
UID:1508-1555182000-1555192800@www.xn--hatzenbhl-w9a.de
SUMMARY:Theateraufführung
DESCRIPTION:
URL:https://www.xn--hatzenbhl-w9a.de/event/theaterauffuehrung-6/
LOCATION:Theatersaal Zum Pflug
END:VEVENT
BEGIN:VEVENT
DTSTART;TZID=Europe/Berlin:20190416T190000
DTEND;TZID=Europe/Berlin:20190416T220000
DTSTAMP:20260426T012337
CREATED:20190318T130744Z
LAST-MODIFIED:20190318T130744Z
UID:1510-1555441200-1555452000@www.xn--hatzenbhl-w9a.de
SUMMARY:Ostereier-Schießen
DESCRIPTION:
URL:https://www.xn--hatzenbhl-w9a.de/event/ostereier-schiessen-2/
LOCATION:Schützenhaus SSV\, Hinterwaldallee 1\, Hatzenbühl\, 76770\, Deutschland
END:VEVENT
BEGIN:VEVENT
DTSTART;TZID=Europe/Berlin:20190418T190000
DTEND;TZID=Europe/Berlin:20190418T220000
DTSTAMP:20260426T012337
CREATED:20190318T130826Z
LAST-MODIFIED:20190318T130826Z
UID:1512-1555614000-1555624800@www.xn--hatzenbhl-w9a.de
SUMMARY:Ostereier-Schießen
DESCRIPTION:
URL:https://www.xn--hatzenbhl-w9a.de/event/ostereier-schiessen-3/
LOCATION:Schützenhaus SSV\, Hinterwaldallee 1\, Hatzenbühl\, 76770\, Deutschland
END:VEVENT
BEGIN:VEVENT
DTSTART;TZID=Europe/Berlin:20190419T120000
DTEND;TZID=Europe/Berlin:20190419T170000
DTSTAMP:20260426T012337
CREATED:20190318T130925Z
LAST-MODIFIED:20190318T130939Z
UID:1514-1555675200-1555693200@www.xn--hatzenbhl-w9a.de
SUMMARY:Fischessen TC83
DESCRIPTION:
URL:https://www.xn--hatzenbhl-w9a.de/event/fischessen/
LOCATION:Tennisheim TC´83\, Schelmenhecke 2\, Hatzenbühl\, 76770\, Deutschland
ORGANIZER;CN="Tennisclub TC%C2%B483":MAILTO:w.wuenstel@t-online.de
END:VEVENT
BEGIN:VEVENT
DTSTART;VALUE=DATE:20190423
DTEND;VALUE=DATE:20190501
DTSTAMP:20260426T012337
CREATED:20190318T131029Z
LAST-MODIFIED:20190318T131029Z
UID:1517-1555977600-1556668799@www.xn--hatzenbhl-w9a.de
SUMMARY:Osterferien
DESCRIPTION:
URL:https://www.xn--hatzenbhl-w9a.de/event/osterferien/
CATEGORIES:Ferien
END:VEVENT
BEGIN:VEVENT
DTSTART;VALUE=DATE:20190425
DTEND;VALUE=DATE:20190427
DTSTAMP:20260426T012337
CREATED:20190318T131143Z
LAST-MODIFIED:20190318T131143Z
UID:1519-1556150400-1556323199@www.xn--hatzenbhl-w9a.de
SUMMARY:Generalprobe MVH
DESCRIPTION:Generalprobe für Konzert Musikverein Hatzenbühl
URL:https://www.xn--hatzenbhl-w9a.de/event/generalprobe-mvh/
LOCATION:Bürgerhaus\, Kirchwiese 5\, Hatzenbühl\, 76770\, Deutschland
ORGANIZER;CN="Musikverein":MAILTO:kaufmannjutta-mvhatzenbuehl@gmx.de
END:VEVENT
BEGIN:VEVENT
DTSTART;VALUE=DATE:20190427
DTEND;VALUE=DATE:20190428
DTSTAMP:20260426T012337
CREATED:20190318T131238Z
LAST-MODIFIED:20190318T131259Z
UID:1521-1556323200-1556409599@www.xn--hatzenbhl-w9a.de
SUMMARY:Konzert MVH
DESCRIPTION:Konzert des Musikverein Hatzenbühl e.V.
URL:https://www.xn--hatzenbhl-w9a.de/event/konzert/
LOCATION:Bürgerhaus\, Kirchwiese 5\, Hatzenbühl\, 76770\, Deutschland
ORGANIZER;CN="Musikverein":MAILTO:kaufmannjutta-mvhatzenbuehl@gmx.de
END:VEVENT
BEGIN:VEVENT
DTSTART;VALUE=DATE:20190428
DTEND;VALUE=DATE:20190429
DTSTAMP:20260426T012337
CREATED:20190318T131445Z
LAST-MODIFIED:20190318T131445Z
UID:1524-1556409600-1556495999@www.xn--hatzenbhl-w9a.de
SUMMARY:Saison Eröffnungsfahrt
DESCRIPTION:
URL:https://www.xn--hatzenbhl-w9a.de/event/saison-eroeffnungsfahrt/
END:VEVENT
BEGIN:VEVENT
DTSTART;VALUE=DATE:20190428
DTEND;VALUE=DATE:20190429
DTSTAMP:20260426T012337
CREATED:20190318T131547Z
LAST-MODIFIED:20190318T131547Z
UID:1527-1556409600-1556495999@www.xn--hatzenbhl-w9a.de
SUMMARY:Privatfeier
DESCRIPTION:
URL:https://www.xn--hatzenbhl-w9a.de/event/privatfeier-8/
LOCATION:Bürgerhaus\, Kirchwiese 5\, Hatzenbühl\, 76770\, Deutschland
ORGANIZER;CN="Sabine Zaucker - B%C3%BCrgerhauswirtin":MAILTO:info@Dorfgemeinschaftshaus-Hatzenbühl.de
END:VEVENT
BEGIN:VEVENT
DTSTART;VALUE=DATE:20190428
DTEND;VALUE=DATE:20190429
DTSTAMP:20260426T012337
CREATED:20190318T131635Z
LAST-MODIFIED:20190318T131635Z
UID:1529-1556409600-1556495999@www.xn--hatzenbhl-w9a.de
SUMMARY:Privatfeier
DESCRIPTION:
URL:https://www.xn--hatzenbhl-w9a.de/event/privatfeier-9/
LOCATION:Bürgerhaus MZ Saal
END:VEVENT
END:VCALENDAR