BEGIN:VCALENDAR
VERSION:2.0
PRODID:-//Hatzenbühl - ECPv6.3.5//NONSGML v1.0//EN
CALSCALE:GREGORIAN
METHOD:PUBLISH
X-ORIGINAL-URL:https://www.xn--hatzenbhl-w9a.de
X-WR-CALDESC:Veranstaltungen für Hatzenbühl
REFRESH-INTERVAL;VALUE=DURATION:PT1H
X-Robots-Tag:noindex
X-PUBLISHED-TTL:PT1H
BEGIN:VTIMEZONE
TZID:Europe/Berlin
BEGIN:DAYLIGHT
TZOFFSETFROM:+0100
TZOFFSETTO:+0200
TZNAME:CEST
DTSTART:20260329T010000
END:DAYLIGHT
BEGIN:STANDARD
TZOFFSETFROM:+0200
TZOFFSETTO:+0100
TZNAME:CET
DTSTART:20261025T010000
END:STANDARD
END:VTIMEZONE
BEGIN:VEVENT
DTSTART;VALUE=DATE:20260912
DTEND;VALUE=DATE:20260913
DTSTAMP:20260423T122618
CREATED:20251114T203919Z
LAST-MODIFIED:20251114T203925Z
UID:3634-1789171200-1789171200@www.xn--hatzenbhl-w9a.de
SUMMARY:Hatzebehl LIVE
DESCRIPTION:
URL:https://www.xn--hatzenbhl-w9a.de/event/hatzebehl-live-3/
LOCATION:Festzelt Hatzenbühl
END:VEVENT
BEGIN:VEVENT
DTSTART;VALUE=DATE:20260913
DTEND;VALUE=DATE:20260914
DTSTAMP:20260423T122618
CREATED:20251114T204125Z
LAST-MODIFIED:20251114T204550Z
UID:3638-1789257600-1789257600@www.xn--hatzenbhl-w9a.de
SUMMARY:Kreispokal Bogen & Blasrohr
DESCRIPTION:
URL:https://www.xn--hatzenbhl-w9a.de/event/kreispokal-bogen-blasrohr-2/
LOCATION:Vereinsgelände / Bogenplatz
END:VEVENT
BEGIN:VEVENT
DTSTART;TZID=Europe/Berlin:20260913T150000
DTEND;TZID=Europe/Berlin:20260913T150000
DTSTAMP:20260423T122618
CREATED:20251114T204023Z
LAST-MODIFIED:20251114T204048Z
UID:3636-1789311600-1789311600@www.xn--hatzenbhl-w9a.de
SUMMARY:„Stockseel“ – Zamme em Schopp“
DESCRIPTION:
URL:https://www.xn--hatzenbhl-w9a.de/event/stockseel-zamme-em-schopp-2/
LOCATION:Gemeindeschuppen
END:VEVENT
BEGIN:VEVENT
DTSTART;VALUE=DATE:20260925
DTEND;VALUE=DATE:20260926
DTSTAMP:20260423T122618
CREATED:20251114T204315Z
LAST-MODIFIED:20251114T204332Z
UID:3641-1790294400-1790294400@www.xn--hatzenbhl-w9a.de
SUMMARY:Jahreshauptübung der Feuerwehren der VG Jockgrim
DESCRIPTION:
URL:https://www.xn--hatzenbhl-w9a.de/event/jahreshauptuebung-der-feuerwehren-der-vg-jockgrim/
END:VEVENT
BEGIN:VEVENT
DTSTART;VALUE=DATE:20260925
DTEND;VALUE=DATE:20260928
DTSTAMP:20260423T122618
CREATED:20250701T094300Z
LAST-MODIFIED:20251114T204206Z
UID:3396-1790294400-1790467200@www.xn--hatzenbhl-w9a.de
SUMMARY:Fahrt nach St. Martin Belle Roche
DESCRIPTION:
URL:https://www.xn--hatzenbhl-w9a.de/event/fahrt-nach-st-martin-belle-roche/
END:VEVENT
END:VCALENDAR